BEGIN:VCALENDAR
VERSION:2.0
PRODID:-//eventon.com NONSGML v1.0//EN
CALSCALE:GREGORIAN
METHOD:PUBLISH
BEGIN:VEVENT
UID:69e4c821dca59
DTSTAMP:20260419T121841Z
DTSTART:20260613T140000Z
DTEND:20260613T180000Z
LOCATION:Miller Quarters Park 198 Gleason St\,  Minden\,  LA 71055\,  USA
SUMMARY:Daddies with Angels Cookout
DESCRIPTION:Join the community for the Daddies With Angels Cookout\,  a hea
 rtfelt\,  family-friendly gathering created to honor fathers who have exper
 ienced pregnancy or infant loss. This special event provides a relaxed outd
 oor setting for connection\,  conversation\,  and community. It’s a time 
 to come together in unity\,  offer support\,  and remind one[..]\nhttps://w
 ww.visitwebster.net/events/daddies-with-angels-cookout/
URL:https://www.visitwebster.net/events/daddies-with-angels-cookout/
END:VEVENT
END:VCALENDAR