BEGIN:VCALENDAR
VERSION:2.0
PRODID:-//eventon.com NONSGML v1.0//EN
CALSCALE:GREGORIAN
METHOD:PUBLISH
BEGIN:VEVENT
UID:69e4c96d605b7
DTSTAMP:20260419T122413Z
DTSTART:20260404T120000Z
DTEND:20260404T150000Z
LOCATION:
SUMMARY:The Village Community Easter Egg Hunt
DESCRIPTION:Celebrate spring in Webster Parish with a fun-filled afternoon 
 at The Village’s 3rd Annual Easter Egg Hunt in Springhill! This lively co
 mmunity event invites families to gather at West Side Park for an exciting 
 day of egg hunting\,  laughter\,  and outdoor fun. Children can grab their 
 baskets and join in[..]\nhttps://www.visitwebster.net/events/the-village-co
 mmunity-easter-egg-hunt/
URL:https://www.visitwebster.net/events/the-village-community-easter-egg-hunt/
END:VEVENT
END:VCALENDAR