BEGIN:VCALENDAR
VERSION:2.0
PRODID:-//eventon.com NONSGML v1.0//EN
CALSCALE:GREGORIAN
METHOD:PUBLISH
BEGIN:VEVENT
UID:69e4de99d6bf9
DTSTAMP:20260419T135433Z
DTSTART:20260509T100000Z
DTEND:20260509T140000Z
LOCATION:Red Blooms 731 Main St\,  Minden\,  LA 71055\,  USA
SUMMARY:Spring Book Signing
DESCRIPTION:Celebrate the beauty of spring and the power of uplifting words
  at a special Spring Book Signing with author Joy Lary\,  creator of Joy’
 s Little Book of Love. Known for her heartfelt message of healing\,  forgiv
 eness\,  and freedom\,  Joy invites guests to stop by\,  connect\,  and be 
 inspired. This event[..]\nhttps://www.visitwebster.net/events/spring-book-s
 igning/
URL:https://www.visitwebster.net/events/spring-book-signing/
END:VEVENT
END:VCALENDAR